BEGIN:VCALENDAR
VERSION:2.0
PRODID:-//Winter Sport Union Klagenfurt Nord - ECPv6.2.5//NONSGML v1.0//EN
CALSCALE:GREGORIAN
METHOD:PUBLISH
X-WR-CALNAME:Winter Sport Union Klagenfurt Nord
X-ORIGINAL-URL:https://klagenfurt-nord.at
X-WR-CALDESC:Veranstaltungen für Winter Sport Union Klagenfurt Nord
REFRESH-INTERVAL;VALUE=DURATION:PT1H
X-Robots-Tag:noindex
X-PUBLISHED-TTL:PT1H
BEGIN:VTIMEZONE
TZID:Europe/Vienna
BEGIN:DAYLIGHT
TZOFFSETFROM:+0100
TZOFFSETTO:+0200
TZNAME:CEST
DTSTART:20220327T010000
END:DAYLIGHT
BEGIN:STANDARD
TZOFFSETFROM:+0200
TZOFFSETTO:+0100
TZNAME:CET
DTSTART:20221030T010000
END:STANDARD
END:VTIMEZONE
BEGIN:VEVENT
DTSTART;TZID=Europe/Vienna:20221203T083000
DTEND;TZID=Europe/Vienna:20221203T160000
DTSTAMP:20260424T162938
CREATED:20221002T203154Z
LAST-MODIFIED:20221002T203154Z
UID:1659-1670056200-1670083200@klagenfurt-nord.at
SUMMARY:Skiopening Gerlitzen
DESCRIPTION:Es geht wieder los. Gemeinsam machen wir wieder die Pisten unsicher. \nBei schlechtem Wetter starten wir am Sonntag.
URL:https://klagenfurt-nord.at/event/skiopening-gerlitzen/
LOCATION:Gerlitzen Alpe\, Kanzelplatz 2\, Annenheim\, Kärnten\, 9520\, Österreich
CATEGORIES:Anfänger,Après-Ski,Ski,Wintersport
ATTACH;FMTTYPE=image/jpeg:https://klagenfurt-nord.at/wp-content/uploads/2017/03/shutterstock_1310139967-scaled.jpg
ORGANIZER;CN="Winter Sport Union Klagenfurt Nord":MAILTO:wsu@klagenfurt-nord.at
END:VEVENT
END:VCALENDAR