BEGIN:VCALENDAR
VERSION:2.0
PRODID:-//Winter Sport Union Klagenfurt Nord - ECPv6.2.5//NONSGML v1.0//EN
CALSCALE:GREGORIAN
METHOD:PUBLISH
X-WR-CALNAME:Winter Sport Union Klagenfurt Nord
X-ORIGINAL-URL:https://klagenfurt-nord.at
X-WR-CALDESC:Veranstaltungen für Winter Sport Union Klagenfurt Nord
REFRESH-INTERVAL;VALUE=DURATION:PT1H
X-Robots-Tag:noindex
X-PUBLISHED-TTL:PT1H
BEGIN:VTIMEZONE
TZID:Europe/Vienna
BEGIN:DAYLIGHT
TZOFFSETFROM:+0100
TZOFFSETTO:+0200
TZNAME:CEST
DTSTART:20220327T010000
END:DAYLIGHT
BEGIN:STANDARD
TZOFFSETFROM:+0200
TZOFFSETTO:+0100
TZNAME:CET
DTSTART:20221030T010000
END:STANDARD
END:VTIMEZONE
BEGIN:VEVENT
DTSTART;TZID=Europe/Vienna:20221217T110000
DTEND;TZID=Europe/Vienna:20221217T170000
DTSTAMP:20260424T162828
CREATED:20221216T171304Z
LAST-MODIFIED:20221216T171331Z
UID:1722-1671274800-1671296400@klagenfurt-nord.at
SUMMARY:Rodelrennen
DESCRIPTION:Am Samstag findet unser großes Rodelrennen am Dobratsch statt. Jeder ist willkommen teilzunehmen.\nWenn möglich bring bitte deinen eigenen Schlitten\, Bob\, Rutscherl oder anderes Rutschfähiges Fortbewegungsmittel mit. \nWir freuen uns auf dich!
URL:https://klagenfurt-nord.at/event/rodelrennen-2/
LOCATION:Dobratsch\, Villacher Alpenstraße 11\, Villach\, Kärnten\, 9500\, Österreich
ATTACH;FMTTYPE=image/jpeg:https://klagenfurt-nord.at/wp-content/uploads/2022/02/shutterstock_1198406104-scaled.jpg
ORGANIZER;CN="Winter Sport Union Klagenfurt Nord":MAILTO:wsu@klagenfurt-nord.at
END:VEVENT
END:VCALENDAR