BEGIN:VCALENDAR
VERSION:2.0
PRODID:-//Winter Sport Union Klagenfurt Nord - ECPv6.2.5//NONSGML v1.0//EN
CALSCALE:GREGORIAN
METHOD:PUBLISH
X-ORIGINAL-URL:https://klagenfurt-nord.at
X-WR-CALDESC:Veranstaltungen für Winter Sport Union Klagenfurt Nord
REFRESH-INTERVAL;VALUE=DURATION:PT1H
X-Robots-Tag:noindex
X-PUBLISHED-TTL:PT1H
BEGIN:VTIMEZONE
TZID:Europe/Vienna
BEGIN:DAYLIGHT
TZOFFSETFROM:+0100
TZOFFSETTO:+0200
TZNAME:CEST
DTSTART:20230326T010000
END:DAYLIGHT
BEGIN:STANDARD
TZOFFSETFROM:+0200
TZOFFSETTO:+0100
TZNAME:CET
DTSTART:20231029T010000
END:STANDARD
END:VTIMEZONE
BEGIN:VEVENT
DTSTART;TZID=Europe/Vienna:20230122T090000
DTEND;TZID=Europe/Vienna:20230122T160000
DTSTAMP:20260424T145155
CREATED:20221220T213514Z
LAST-MODIFIED:20230117T181830Z
UID:1776-1674378000-1674403200@klagenfurt-nord.at
SUMMARY:Skitag Nassfeld
DESCRIPTION:Erlebe am 22. Jänner 2023 den ultimativen Skitag am Nassfeld mit der Winter Sport Union Klagenfurt Nord! Mit über 110 Pistenkilometern und 30 modernen Liftanlagen bietet das Nassfeld alles\, was das Skifahrerherz höherschlagen lässt. Du kannst dich auf abwechslungsreiche Abfahrten in allen Schwierigkeitsgraden freuen und immer wieder neue Herausforderungen suchen.
URL:https://klagenfurt-nord.at/event/skitag-nassfeld/
LOCATION:Nassfeld\, Sonnenalpe Nassfeld 8\,\, Sonnenalpe Nassfeld\, Kärnten\, 9620\, Österreich
CATEGORIES:Après-Ski,Ski,Wintersport
ATTACH;FMTTYPE=image/jpeg:https://klagenfurt-nord.at/wp-content/uploads/2022/12/Banner-Nassfeld.jpg
ORGANIZER;CN="Winter Sport Union Klagenfurt Nord":MAILTO:wsu@klagenfurt-nord.at
END:VEVENT
END:VCALENDAR