BEGIN:VCALENDAR
VERSION:2.0
PRODID:-//Winter Sport Union Klagenfurt Nord - ECPv6.2.5//NONSGML v1.0//EN
CALSCALE:GREGORIAN
METHOD:PUBLISH
X-WR-CALNAME:Winter Sport Union Klagenfurt Nord
X-ORIGINAL-URL:https://klagenfurt-nord.at
X-WR-CALDESC:Veranstaltungen für Winter Sport Union Klagenfurt Nord
REFRESH-INTERVAL;VALUE=DURATION:PT1H
X-Robots-Tag:noindex
X-PUBLISHED-TTL:PT1H
BEGIN:VTIMEZONE
TZID:Europe/Vienna
BEGIN:DAYLIGHT
TZOFFSETFROM:+0100
TZOFFSETTO:+0200
TZNAME:CEST
DTSTART:20230326T010000
END:DAYLIGHT
BEGIN:STANDARD
TZOFFSETFROM:+0200
TZOFFSETTO:+0100
TZNAME:CET
DTSTART:20231029T010000
END:STANDARD
END:VTIMEZONE
BEGIN:VEVENT
DTSTART;TZID=Europe/Vienna:20230312T080000
DTEND;TZID=Europe/Vienna:20230312T170000
DTSTAMP:20260424T114640
CREATED:20221217T123238Z
LAST-MODIFIED:20230301T205426Z
UID:1749-1678608000-1678640400@klagenfurt-nord.at
SUMMARY:Skitag Hochrindel
DESCRIPTION:Die Hochrindl ist mit Sicherheit eines der beliebtesten Familienskigebiete in Kärnten. Vor allem für Kinder und Anfänger bietet das Skigebiet eine gute Auswahl an Pisten. Auch Preismässig ist die Hochrindl sehr Attraktiv. Bei Schlechtwetter starten wir wie immer erst am Sonntag.
URL:https://klagenfurt-nord.at/event/skitag-hochrindel/
LOCATION:Hochrindl\, Steingartenweg 2\, Sirnitz\, Kärnten\, 9571\, Österreich
CATEGORIES:Ski,Wintersport
ATTACH;FMTTYPE=image/jpeg:https://klagenfurt-nord.at/wp-content/uploads/2022/02/Hochrindl.jpeg
ORGANIZER;CN="Winter Sport Union Klagenfurt Nord":MAILTO:wsu@klagenfurt-nord.at
END:VEVENT
END:VCALENDAR