BEGIN:VCALENDAR
VERSION:2.0
PRODID:-//Winter Sport Union Klagenfurt Nord - ECPv6.2.5//NONSGML v1.0//EN
CALSCALE:GREGORIAN
METHOD:PUBLISH
X-ORIGINAL-URL:https://klagenfurt-nord.at
X-WR-CALDESC:Veranstaltungen für Winter Sport Union Klagenfurt Nord
REFRESH-INTERVAL;VALUE=DURATION:PT1H
X-Robots-Tag:noindex
X-PUBLISHED-TTL:PT1H
BEGIN:VTIMEZONE
TZID:Europe/Vienna
BEGIN:DAYLIGHT
TZOFFSETFROM:+0100
TZOFFSETTO:+0200
TZNAME:CEST
DTSTART:20230326T010000
END:DAYLIGHT
BEGIN:STANDARD
TZOFFSETFROM:+0200
TZOFFSETTO:+0100
TZNAME:CET
DTSTART:20231029T010000
END:STANDARD
END:VTIMEZONE
BEGIN:VEVENT
DTSTART;TZID=Europe/Vienna:20231202T080000
DTEND;TZID=Europe/Vienna:20231203T170000
DTSTAMP:20260423T211831
CREATED:20231130T203215Z
LAST-MODIFIED:20231130T203215Z
UID:1865-1701504000-1701622800@klagenfurt-nord.at
SUMMARY:Wintersportbörse
DESCRIPTION:Die AK Wintersportbörse ist der perfekte Weg um am Saisonbeginn günstig an die Ausrüstung für die bevorstehende Winterliche Action zu kommen. In der Messehalle 1 in Klagenfurt habt ihr 2 Tage lang Zeit euch für den kommenden Winter einzudecken. Ein absoluter Pflichtermin wenn dein Eqipment noch nicht vollständig ist.
URL:https://klagenfurt-nord.at/event/wintersportboerse/
LOCATION:Kärnten
CATEGORIES:Eislaufen,Langlaufen,Ski,Wintersport
ATTACH;FMTTYPE=image/jpeg:https://klagenfurt-nord.at/wp-content/uploads/2023/11/shutterstock_1069133498-scaled.jpg
END:VEVENT
END:VCALENDAR