BEGIN:VCALENDAR
VERSION:2.0
PRODID:-//Winter Sport Union Klagenfurt Nord - ECPv6.2.5//NONSGML v1.0//EN
CALSCALE:GREGORIAN
METHOD:PUBLISH
X-ORIGINAL-URL:https://klagenfurt-nord.at
X-WR-CALDESC:Veranstaltungen für Winter Sport Union Klagenfurt Nord
REFRESH-INTERVAL;VALUE=DURATION:PT1H
X-Robots-Tag:noindex
X-PUBLISHED-TTL:PT1H
BEGIN:VTIMEZONE
TZID:Europe/Vienna
BEGIN:DAYLIGHT
TZOFFSETFROM:+0100
TZOFFSETTO:+0200
TZNAME:CEST
DTSTART:20230326T010000
END:DAYLIGHT
BEGIN:STANDARD
TZOFFSETFROM:+0200
TZOFFSETTO:+0100
TZNAME:CET
DTSTART:20231029T010000
END:STANDARD
END:VTIMEZONE
BEGIN:VEVENT
DTSTART;TZID=Europe/Vienna:20231208T090000
DTEND;TZID=Europe/Vienna:20231208T160000
DTSTAMP:20260423T211831
CREATED:20231204T200031Z
LAST-MODIFIED:20231204T205352Z
UID:1868-1702026000-1702051200@klagenfurt-nord.at
SUMMARY:Ski Opening Turracher Höhe
DESCRIPTION:Die Turrach\, eines unserer absoluten Lieblingsskigebiete\, wo die Pistenverhältnisse fast immer top sind\, wird auch heuer wieder Schauplatz des WSU Ski Openings! \nBegleite uns am 8. Dezember und lass uns gemeinsam die Stöcke schwingen! \nFür Fahrgemeinschaften meldet euch gerne bei uns. \nBei Schlechtwetter starten wir wie immer erst am Samstag oder Sonntag.
URL:https://klagenfurt-nord.at/event/ski-opening-turracher-hoehe/
LOCATION:Turracher Höhe\, Turracher Höhe\, Turracherhöhe\, 9565\, Österreich
CATEGORIES:Après-Ski,Ski,Wintersport
ATTACH;FMTTYPE=image/jpeg:https://klagenfurt-nord.at/wp-content/uploads/2023/12/Dez08_Turrach.jpg
ORGANIZER;CN="Winter Sport Union Klagenfurt Nord":MAILTO:wsu@klagenfurt-nord.at
END:VEVENT
END:VCALENDAR