BEGIN:VCALENDAR
VERSION:2.0
PRODID:-//Winter Sport Union Klagenfurt Nord - ECPv6.2.5//NONSGML v1.0//EN
CALSCALE:GREGORIAN
METHOD:PUBLISH
X-WR-CALNAME:Winter Sport Union Klagenfurt Nord
X-ORIGINAL-URL:https://klagenfurt-nord.at
X-WR-CALDESC:Veranstaltungen für Winter Sport Union Klagenfurt Nord
REFRESH-INTERVAL;VALUE=DURATION:PT1H
X-Robots-Tag:noindex
X-PUBLISHED-TTL:PT1H
BEGIN:VTIMEZONE
TZID:Europe/Vienna
BEGIN:DAYLIGHT
TZOFFSETFROM:+0100
TZOFFSETTO:+0200
TZNAME:CEST
DTSTART:20230326T010000
END:DAYLIGHT
BEGIN:STANDARD
TZOFFSETFROM:+0200
TZOFFSETTO:+0100
TZNAME:CET
DTSTART:20231029T010000
END:STANDARD
END:VTIMEZONE
BEGIN:VEVENT
DTSTART;TZID=Europe/Vienna:20231216T090000
DTEND;TZID=Europe/Vienna:20231216T160000
DTSTAMP:20260423T211700
CREATED:20231204T205434Z
LAST-MODIFIED:20231204T205434Z
UID:1875-1702717200-1702742400@klagenfurt-nord.at
SUMMARY:Skitag Bad Kleinkirchheim
DESCRIPTION:Anstatt faul in der Therme vor sich hin zu vegetieren\, stehen wir schon zu früher Stunde auf der Piste in Bad Kleinkirchheim/St. Oswald. \nEs gibt genug für alle Könnensstufen und ist deshalb auch perfekt für die WSU geeignet. \nFür Fahrgemeinschaften meldet euch gerne bei uns. \nBei Schlechtwetter starten wir wie immer erst am Sonntag.
URL:https://klagenfurt-nord.at/event/skitag-bad-kleinkirchheim/
LOCATION:Bad Kleinkirchheim\, Schneerosenweg 1\, Bad Kleinkirchheim\, Kärnten\, 9546\, Österreich
CATEGORIES:Après-Ski,Ski,Wintersport
ATTACH;FMTTYPE=image/jpeg:https://klagenfurt-nord.at/wp-content/uploads/2023/12/Dez16_BadKleinkirchheim.jpg
ORGANIZER;CN="Winter Sport Union Klagenfurt Nord":MAILTO:wsu@klagenfurt-nord.at
END:VEVENT
END:VCALENDAR