BEGIN:VCALENDAR
VERSION:2.0
PRODID:-//Winter Sport Union Klagenfurt Nord - ECPv6.2.5//NONSGML v1.0//EN
CALSCALE:GREGORIAN
METHOD:PUBLISH
X-WR-CALNAME:Winter Sport Union Klagenfurt Nord
X-ORIGINAL-URL:https://klagenfurt-nord.at
X-WR-CALDESC:Veranstaltungen für Winter Sport Union Klagenfurt Nord
REFRESH-INTERVAL;VALUE=DURATION:PT1H
X-Robots-Tag:noindex
X-PUBLISHED-TTL:PT1H
BEGIN:VTIMEZONE
TZID:Europe/Vienna
BEGIN:DAYLIGHT
TZOFFSETFROM:+0100
TZOFFSETTO:+0200
TZNAME:CEST
DTSTART:20230326T010000
END:DAYLIGHT
BEGIN:STANDARD
TZOFFSETFROM:+0200
TZOFFSETTO:+0100
TZNAME:CET
DTSTART:20231029T010000
END:STANDARD
END:VTIMEZONE
BEGIN:VEVENT
DTSTART;TZID=Europe/Vienna:20231230T090000
DTEND;TZID=Europe/Vienna:20231230T160000
DTSTAMP:20260423T211651
CREATED:20231204T215825Z
LAST-MODIFIED:20231205T211251Z
UID:1885-1703926800-1703952000@klagenfurt-nord.at
SUMMARY:Skitag Katschberg
DESCRIPTION:Auch die Vielseitigkeit am Katschberg lassen wir uns nicht entgehen. Auf 70 Kilometer feinst präparierten Abfahrtskilometern findet jeder seine Lieblingspiste beim Skifahren und Snowboarden. Wie zum Beispiel die sechs Kilometer lange A1 Abfahrt und noch viele weitere. \nJedes mal ein kleines Abenteuer. \nFalls du eine Mitfahrgelegenheit brauchst\, CO2 sparen möchtest oder einfach nur Spaß haben und nicht alleine fahren willst\, kannst du dich gerne in unserem Telegram Channel oder unserer Whatsapp Gruppe unter dem jeweiligen Post melden!
URL:https://klagenfurt-nord.at/event/skitag-katschberg-2/
LOCATION:Kärnten
CATEGORIES:Après-Ski,Ski,Wintersport
ATTACH;FMTTYPE=image/jpeg:https://klagenfurt-nord.at/wp-content/uploads/2023/12/Dez30_Katschberg.jpg
END:VEVENT
END:VCALENDAR