BEGIN:VCALENDAR
VERSION:2.0
PRODID:-//Winter Sport Union Klagenfurt Nord - ECPv6.2.5//NONSGML v1.0//EN
CALSCALE:GREGORIAN
METHOD:PUBLISH
X-WR-CALNAME:Winter Sport Union Klagenfurt Nord
X-ORIGINAL-URL:https://klagenfurt-nord.at
X-WR-CALDESC:Veranstaltungen für Winter Sport Union Klagenfurt Nord
REFRESH-INTERVAL;VALUE=DURATION:PT1H
X-Robots-Tag:noindex
X-PUBLISHED-TTL:PT1H
BEGIN:VTIMEZONE
TZID:Europe/Vienna
BEGIN:DAYLIGHT
TZOFFSETFROM:+0100
TZOFFSETTO:+0200
TZNAME:CEST
DTSTART:20240331T010000
END:DAYLIGHT
BEGIN:STANDARD
TZOFFSETFROM:+0200
TZOFFSETTO:+0100
TZNAME:CET
DTSTART:20241027T010000
END:STANDARD
END:VTIMEZONE
BEGIN:VEVENT
DTSTART;TZID=Europe/Vienna:20240113T090000
DTEND;TZID=Europe/Vienna:20240113T160000
DTSTAMP:20260423T193757
CREATED:20231227T192033Z
LAST-MODIFIED:20231227T192033Z
UID:1893-1705136400-1705161600@klagenfurt-nord.at
SUMMARY:Skitag Nassfeld
DESCRIPTION:Mit über 110 Pistenkilometern und 30 modernen Liftanlagen bietet das Nassfeld alles\, was das Skifahrerherz höherschlagen lässt. Du kannst dich auf abwechslungsreiche Abfahrten in allen Schwierigkeitsgraden freuen und immer wieder neue Herausforderungen suchen. \nFalls du eine Mitfahrgelegenheit brauchst\, CO2 sparen möchtest oder einfach nur Spaß haben und nicht alleine fahren willst\, kannst du dich gerne in unserem Telegram Channel oder unserer Whatsapp Gruppe unter dem jeweiligen Post melden!
URL:https://klagenfurt-nord.at/event/skitag-nassfeld-2/
LOCATION:Nassfeld\, Sonnenalpe Nassfeld 8\,\, Sonnenalpe Nassfeld\, Kärnten\, 9620\, Österreich
CATEGORIES:Après-Ski,Ski,Wintersport
ATTACH;FMTTYPE=image/jpeg:https://klagenfurt-nord.at/wp-content/uploads/2022/12/Banner-Nassfeld.jpg
ORGANIZER;CN="Winter Sport Union Klagenfurt Nord":MAILTO:wsu@klagenfurt-nord.at
END:VEVENT
END:VCALENDAR