BEGIN:VCALENDAR
VERSION:2.0
PRODID:-//Winter Sport Union Klagenfurt Nord - ECPv6.2.5//NONSGML v1.0//EN
CALSCALE:GREGORIAN
METHOD:PUBLISH
X-WR-CALNAME:Winter Sport Union Klagenfurt Nord
X-ORIGINAL-URL:https://klagenfurt-nord.at
X-WR-CALDESC:Veranstaltungen für Winter Sport Union Klagenfurt Nord
REFRESH-INTERVAL;VALUE=DURATION:PT1H
X-Robots-Tag:noindex
X-PUBLISHED-TTL:PT1H
BEGIN:VTIMEZONE
TZID:Europe/Vienna
BEGIN:DAYLIGHT
TZOFFSETFROM:+0100
TZOFFSETTO:+0200
TZNAME:CEST
DTSTART:20240331T010000
END:DAYLIGHT
BEGIN:STANDARD
TZOFFSETFROM:+0200
TZOFFSETTO:+0100
TZNAME:CET
DTSTART:20241027T010000
END:STANDARD
END:VTIMEZONE
BEGIN:VEVENT
DTSTART;TZID=Europe/Vienna:20240210T090000
DTEND;TZID=Europe/Vienna:20240210T230000
DTSTAMP:20260423T175732
CREATED:20240117T184458Z
LAST-MODIFIED:20240117T184458Z
UID:1909-1707555600-1707606000@klagenfurt-nord.at
SUMMARY:Faschingsskitag
DESCRIPTION:Komm mit zum Faschingsskitag von der Wintersportunion. Zuerst fahren wir verkleidet auf der Piste und im Anschluss gibts eine Faschingsparty. \n \n  \nFalls du eine Mitfahrgelegenheit brauchst\, CO2 sparen möchtest oder einfach nur Spaß haben und nicht alleine fahren willst\, kannst du dich gerne in unserem Telegram Channel oder unserer Whatsapp Gruppe unter dem jeweiligen Post melden!
URL:https://klagenfurt-nord.at/event/faschingsskitag-3/
LOCATION:Gerlitzen Alpe\, Kanzelplatz 2\, Annenheim\, Kärnten\, 9520\, Österreich
CATEGORIES:Après-Ski,Gesellig,Ski,Wintersport
ATTACH;FMTTYPE=image/jpeg:https://klagenfurt-nord.at/wp-content/uploads/2022/12/DB6A4590-scaled.jpg
ORGANIZER;CN="Winter Sport Union Klagenfurt Nord":MAILTO:wsu@klagenfurt-nord.at
END:VEVENT
END:VCALENDAR