BEGIN:VCALENDAR
VERSION:2.0
PRODID:-//Winter Sport Union Klagenfurt Nord - ECPv6.2.5//NONSGML v1.0//EN
CALSCALE:GREGORIAN
METHOD:PUBLISH
X-WR-CALNAME:Winter Sport Union Klagenfurt Nord
X-ORIGINAL-URL:https://klagenfurt-nord.at
X-WR-CALDESC:Veranstaltungen für Winter Sport Union Klagenfurt Nord
REFRESH-INTERVAL;VALUE=DURATION:PT1H
X-Robots-Tag:noindex
X-PUBLISHED-TTL:PT1H
BEGIN:VTIMEZONE
TZID:Europe/Vienna
BEGIN:DAYLIGHT
TZOFFSETFROM:+0100
TZOFFSETTO:+0200
TZNAME:CEST
DTSTART:20240331T010000
END:DAYLIGHT
BEGIN:STANDARD
TZOFFSETFROM:+0200
TZOFFSETTO:+0100
TZNAME:CET
DTSTART:20241027T010000
END:STANDARD
END:VTIMEZONE
BEGIN:VEVENT
DTSTART;TZID=Europe/Vienna:20240301T180000
DTEND;TZID=Europe/Vienna:20240303T170000
DTSTAMP:20260423T164533
CREATED:20231105T211224Z
LAST-MODIFIED:20231105T211224Z
UID:1859-1709316000-1709485200@klagenfurt-nord.at
SUMMARY:Skiwochenende Mölltal
DESCRIPTION:Erlebe ein unvergessliches Skiabenteuer im Mölltal! \nTauche ein in die Schönheit von Heiligenblut und erkunden Sie die majestätischen Pisten des Mölltaler Gletschers – die zwei höchstgelegenen Kärntner Skigebiete an nur einem Wochenende! \nProgramm\nWir reisen gemeinsam am Freitag an. Am Abend gibts Gemeinschafatsspiele und knisterndes Kaminfeuer. Am Samstag gehts für uns ins Skigebiet. Heiligenblut am Großglockner. Dort erwartet uns ein freudiger Skitag. Am Abend gibts dann Zuhause in der Hütte ein bisschen Aprés-Ski. Am Sonntag gehts dann auf den Mölltaler Gletscher. Das höchstgelegenste Skigebiet in Kärnten. \n \nUnterkommen werden wir in einer gemütlichen Hütte gleich neben dem Skigebiet. Wir freuen uns schon auf dein kommen.
URL:https://klagenfurt-nord.at/event/skiwochenende-moelltal-2/
LOCATION:Heiligenblut\, Hof 38\, Heiligenblut am Großglockner\, Kärnten\, 9844\, Österreich
CATEGORIES:Gesellig,Ski,Wintersport
ATTACH;FMTTYPE=image/jpeg:https://klagenfurt-nord.at/wp-content/uploads/2022/12/Banner-Mölltal.jpg
ORGANIZER;CN="Winter Sport Union Klagenfurt Nord":MAILTO:wsu@klagenfurt-nord.at
END:VEVENT
END:VCALENDAR