BEGIN:VCALENDAR
VERSION:2.0
PRODID:-//Winter Sport Union Klagenfurt Nord - ECPv6.2.5//NONSGML v1.0//EN
CALSCALE:GREGORIAN
METHOD:PUBLISH
X-WR-CALNAME:Winter Sport Union Klagenfurt Nord
X-ORIGINAL-URL:https://klagenfurt-nord.at
X-WR-CALDESC:Veranstaltungen für Winter Sport Union Klagenfurt Nord
REFRESH-INTERVAL;VALUE=DURATION:PT1H
X-Robots-Tag:noindex
X-PUBLISHED-TTL:PT1H
BEGIN:VTIMEZONE
TZID:Europe/Vienna
BEGIN:DAYLIGHT
TZOFFSETFROM:+0100
TZOFFSETTO:+0200
TZNAME:CEST
DTSTART:20250330T010000
END:DAYLIGHT
BEGIN:STANDARD
TZOFFSETFROM:+0200
TZOFFSETTO:+0100
TZNAME:CET
DTSTART:20251026T010000
END:STANDARD
END:VTIMEZONE
BEGIN:VEVENT
DTSTART;TZID=Europe/Vienna:20250104T163000
DTEND;TZID=Europe/Vienna:20250105T220000
DTSTAMP:20260423T005919
CREATED:20241214T103732Z
LAST-MODIFIED:20241214T103732Z
UID:1965-1736008200-1736114400@klagenfurt-nord.at
SUMMARY:Big Air Klagenfurt
DESCRIPTION:Von 04. bis 5. Januar 2025 wird das Sportland Kärnten zum Zentrum der Wintersportwelt\, wenn der FIS Freeski & Snowboard BIG AIR Klagenfurt Weltcup 2025 stattfindet. Die Veranstaltung zieht die besten Freeskier und Snowboarder aus aller Welt an und bietet ein unvergessliches Erlebnis für alle Sportfans. BIG AIR Klagenfurt verspricht nicht nur sportliche Höchstleistungen\, sondern auch ein spektakuläres Rahmenprogramm mit internationalen Acts\, die die Atmosphäre zusätzlich anheizen werden.
URL:https://klagenfurt-nord.at/event/big-air-klagenfurt/
LOCATION:Kärnten
CATEGORIES:Party,Ski,Wintersport
ATTACH;FMTTYPE=image/jpeg:https://klagenfurt-nord.at/wp-content/uploads/2024/12/big-air-klagenfurt-tickets-2024-l.jpg
END:VEVENT
END:VCALENDAR