BEGIN:VCALENDAR
VERSION:2.0
PRODID:-//Winter Sport Union Klagenfurt Nord - ECPv6.2.5//NONSGML v1.0//EN
CALSCALE:GREGORIAN
METHOD:PUBLISH
X-WR-CALNAME:Winter Sport Union Klagenfurt Nord
X-ORIGINAL-URL:https://klagenfurt-nord.at
X-WR-CALDESC:Veranstaltungen für Winter Sport Union Klagenfurt Nord
REFRESH-INTERVAL;VALUE=DURATION:PT1H
X-Robots-Tag:noindex
X-PUBLISHED-TTL:PT1H
BEGIN:VTIMEZONE
TZID:Europe/Vienna
BEGIN:DAYLIGHT
TZOFFSETFROM:+0100
TZOFFSETTO:+0200
TZNAME:CEST
DTSTART:20250330T010000
END:DAYLIGHT
BEGIN:STANDARD
TZOFFSETFROM:+0200
TZOFFSETTO:+0100
TZNAME:CET
DTSTART:20251026T010000
END:STANDARD
END:VTIMEZONE
BEGIN:VEVENT
DTSTART;TZID=Europe/Vienna:20250111T090000
DTEND;TZID=Europe/Vienna:20250111T170000
DTSTAMP:20260422T231239
CREATED:20241214T112102Z
LAST-MODIFIED:20241214T113433Z
UID:1971-1736586000-1736614800@klagenfurt-nord.at
SUMMARY:Skitag Katschberg
DESCRIPTION:Mehr Ski am Katschi\, wer kennt sie nicht die gute alte Radio Werbung. Breite Pisten\, und über 2000 Höhenmeter locken neben einer hervorragenden Infrastruktur. Wir freuen uns wenn du mit dabei bist. \nFür Fahrgemeinschaften meldet euch gerne bei uns. \nBei Schlechtwetter starten wir wie immer erst am Samstag oder Sonntag.
URL:https://klagenfurt-nord.at/event/skitag-katschberg-3/
LOCATION:Katschberg\, Katschberghöhe 17\, Katschberg\, Kärnten\, 9863\, Österreich
CATEGORIES:Après-Ski,Ski,Wintersport
ATTACH;FMTTYPE=image/jpeg:https://klagenfurt-nord.at/wp-content/uploads/2024/12/Katschberg.jpg
ORGANIZER;CN="Winter Sport Union Klagenfurt Nord":MAILTO:wsu@klagenfurt-nord.at
END:VEVENT
END:VCALENDAR