BEGIN:VCALENDAR
VERSION:2.0
PRODID:-//Winter Sport Union Klagenfurt Nord - ECPv6.2.5//NONSGML v1.0//EN
CALSCALE:GREGORIAN
METHOD:PUBLISH
X-WR-CALNAME:Winter Sport Union Klagenfurt Nord
X-ORIGINAL-URL:https://klagenfurt-nord.at
X-WR-CALDESC:Veranstaltungen für Winter Sport Union Klagenfurt Nord
REFRESH-INTERVAL;VALUE=DURATION:PT1H
X-Robots-Tag:noindex
X-PUBLISHED-TTL:PT1H
BEGIN:VTIMEZONE
TZID:Europe/Vienna
BEGIN:DAYLIGHT
TZOFFSETFROM:+0100
TZOFFSETTO:+0200
TZNAME:CEST
DTSTART:20250330T010000
END:DAYLIGHT
BEGIN:STANDARD
TZOFFSETFROM:+0200
TZOFFSETTO:+0100
TZNAME:CET
DTSTART:20251026T010000
END:STANDARD
END:VTIMEZONE
BEGIN:VEVENT
DTSTART;TZID=Europe/Vienna:20250129T170000
DTEND;TZID=Europe/Vienna:20250129T220000
DTSTAMP:20260422T212657
CREATED:20241214T114346Z
LAST-MODIFIED:20241214T114346Z
UID:1979-1738170000-1738188000@klagenfurt-nord.at
SUMMARY:Nightrace Schladming
DESCRIPTION:Egal ob vor dem Fernseher oder live dabei. Das Nightrace in Schladming ist jedes Jahr ein absolutes muss für jeden Ski Fan. \nMeldet euch um bei einer Fahrgemeinschaft mit dabei zu sein. \n24.01.2023\, Planai\, Schladming\, AUT\, FIS Weltcup Ski Alpin\, Slalom\, Herren\, 1. Durchgang\, im Bild Michael Matt (AUT) // Michael Matt of Austria during the 1st run of mens Slalom Race of FIS Ski Alpine World Cup at the Planai in Schladming\, Austria on 2023/01/24. EXPA Pictures © 2023\, PhotoCredit: EXPA/ Martin Huber
URL:https://klagenfurt-nord.at/event/nightrace-schladming/
LOCATION:Kärnten
CATEGORIES:Après-Ski,Gesellig,Rennen
ATTACH;FMTTYPE=image/jpeg:https://klagenfurt-nord.at/wp-content/uploads/2024/12/Nightrace.jpg
END:VEVENT
END:VCALENDAR