BEGIN:VCALENDAR
VERSION:2.0
PRODID:-//Winter Sport Union Klagenfurt Nord - ECPv6.2.5//NONSGML v1.0//EN
CALSCALE:GREGORIAN
METHOD:PUBLISH
X-ORIGINAL-URL:https://klagenfurt-nord.at
X-WR-CALDESC:Veranstaltungen für Winter Sport Union Klagenfurt Nord
REFRESH-INTERVAL;VALUE=DURATION:PT1H
X-Robots-Tag:noindex
X-PUBLISHED-TTL:PT1H
BEGIN:VTIMEZONE
TZID:Europe/Vienna
BEGIN:DAYLIGHT
TZOFFSETFROM:+0100
TZOFFSETTO:+0200
TZNAME:CEST
DTSTART:20250330T010000
END:DAYLIGHT
BEGIN:STANDARD
TZOFFSETFROM:+0200
TZOFFSETTO:+0100
TZNAME:CET
DTSTART:20251026T010000
END:STANDARD
END:VTIMEZONE
BEGIN:VEVENT
DTSTART;TZID=Europe/Vienna:20250307T140000
DTEND;TZID=Europe/Vienna:20250309T200000
DTSTAMP:20260422T195127
CREATED:20250113T215223Z
LAST-MODIFIED:20250113T215223Z
UID:1987-1741356000-1741550400@klagenfurt-nord.at
SUMMARY:Skiwochenende Mölltal
DESCRIPTION:Ab ins Mölltal – ein Wochenende voller Ski und Schneespaß! Am Freitag Nachmittag reisen wir an\, am Samstag carven im felsigen Heiligenblut\, am Sonntag weiter auf den ewigen Gletscher!
URL:https://klagenfurt-nord.at/event/skiwochenende-moelltal-3/
LOCATION:Mölltaler Mletscher\, Kärnten\, Österreich
CATEGORIES:Après-Ski,Ski,Wintersport
ORGANIZER;CN="Winter Sport Union Klagenfurt Nord":MAILTO:wsu@klagenfurt-nord.at
END:VEVENT
END:VCALENDAR