BEGIN:VCALENDAR
VERSION:2.0
PRODID:-//Winter Sport Union Klagenfurt Nord - ECPv6.2.5//NONSGML v1.0//EN
CALSCALE:GREGORIAN
METHOD:PUBLISH
X-ORIGINAL-URL:https://klagenfurt-nord.at
X-WR-CALDESC:Veranstaltungen für Winter Sport Union Klagenfurt Nord
REFRESH-INTERVAL;VALUE=DURATION:PT1H
X-Robots-Tag:noindex
X-PUBLISHED-TTL:PT1H
BEGIN:VTIMEZONE
TZID:Europe/Vienna
BEGIN:DAYLIGHT
TZOFFSETFROM:+0100
TZOFFSETTO:+0200
TZNAME:CEST
DTSTART:20220327T010000
END:DAYLIGHT
BEGIN:STANDARD
TZOFFSETFROM:+0200
TZOFFSETTO:+0100
TZNAME:CET
DTSTART:20221030T010000
END:STANDARD
TZID:UTC
BEGIN:STANDARD
TZOFFSETFROM:+0000
TZOFFSETTO:+0000
TZNAME:UTC
DTSTART:20220101T000000
END:STANDARD
END:VTIMEZONE
BEGIN:VEVENT
DTSTART;TZID=Europe/Vienna:20220305T090000
DTEND;TZID=Europe/Vienna:20220305T160000
DTSTAMP:20260425T055612
CREATED:20220130T215910Z
LAST-MODIFIED:20220222T194302Z
UID:1271-1646470800-1646496000@klagenfurt-nord.at
SUMMARY:Vereinsrennen
DESCRIPTION:Wie jedes Jahr\, kommt es auch heuer wieder zum großen Vereinsskirennen der Winter Sport Union Klagenfurt Nord. Dieses Jahr findet das Rennen auf der Turracher Höhe statt. Mitglieder von nah und fern kommen zusammen\, um bei diesem Spektakel dabei zu sein. Zum Start ist jedes aktive Mitglied berechtigt. Um Voranmeldung für die Startaufstellung wird gebeten. \n\n\n \n\n\nAuch das kulinarische Herz wird an diesem Tag nicht zu kurz kommen. Nach dem Rennen und der Siegerehrung werden die Helden des Tages auf der Sonnalm Hütte gebührend gefeiert und zusammen angestoßen.\nWir freuen uns schon auf dich.
URL:https://klagenfurt-nord.at/event/vereinsrennen/
LOCATION:Turracher Höhe\, Turracher Höhe\, Turracherhöhe\, 9565\, Österreich
CATEGORIES:Gesellig,Rennen,Ski,Wintersport
ATTACH;FMTTYPE=image/jpeg:https://klagenfurt-nord.at/wp-content/uploads/2022/01/DB6A2340-3.jpg
ORGANIZER;CN="Winter Sport Union Klagenfurt Nord":MAILTO:wsu@klagenfurt-nord.at
END:VEVENT
BEGIN:VEVENT
DTSTART;TZID=UTC:20220305T190000
DTEND;TZID=UTC:20220305T235900
DTSTAMP:20260425T055612
CREATED:20170328T083506Z
LAST-MODIFIED:20220130T220047Z
UID:381-1646506800-1646524740@klagenfurt-nord.at
SUMMARY:Après-Ski Party
DESCRIPTION:Ut lorem leo\, laoreet eget lectus eu\, sodales commodo orci. Nunc nibh risus\, rhoncus sit amet nisl vitae\, pretium euismod libero. Suspendisse facilisis nisl sed quam eleifend mattis. Proin semper lacinia eros sit amet sollicitudin. Proin sed posuere lacus. Integer dolor nulla\, euismod vel ante sagittis\, pharetra porttitor nulla. Donec malesuada purus vitae massa consequat semper. Integer arcu sapien\, porta sed eleifend ac\, posuere ut enim. \nCras at suscipit lorem. Fusce at placerat nunc\, auctor ornare nulla. Nulla rutrum tristique laoreet. Class aptent taciti sociosqu ad litora torquent per conubia nostra\, per inceptos himenaeos. Donec ut leo pharetra\, aliquam ante ac\, scelerisque dui. Vestibulum pretium elit et augue congue\, id ultricies sem venenatis. Donec vitae arcu non odio semper mattis.
URL:https://klagenfurt-nord.at/event/apres-ski-party/
LOCATION:Winter Sport Union Klagenfurt Nord\, Dieselgasse 3a\, Klagenfurt\, Kärnten\, 9020\, Österreich
CATEGORIES:Gesellig
ATTACH;FMTTYPE=image/jpeg:https://klagenfurt-nord.at/wp-content/uploads/2017/03/shutterstock_1310139967-scaled.jpg
ORGANIZER;CN="Winter Sport Union Klagenfurt Nord":MAILTO:wsu@klagenfurt-nord.at
END:VEVENT
BEGIN:VEVENT
DTSTART;TZID=UTC:20220312T090000
DTEND;TZID=UTC:20220313T160000
DTSTAMP:20260425T055612
CREATED:20170328T083410Z
LAST-MODIFIED:20220130T205955Z
UID:378-1647075600-1647187200@klagenfurt-nord.at
SUMMARY:Ski Anfänger Kurs
DESCRIPTION:Ut lorem leo\, laoreet eget lectus eu\, sodales commodo orci. Nunc nibh risus\, rhoncus sit amet nisl vitae\, pretium euismod libero. Suspendisse facilisis nisl sed quam eleifend mattis. Proin semper lacinia eros sit amet sollicitudin. Proin sed posuere lacus. Integer dolor nulla\, euismod vel ante sagittis\, pharetra porttitor nulla. Donec malesuada purus vitae massa consequat semper. Integer arcu sapien\, porta sed eleifend ac\, posuere ut enim. \nCras at suscipit lorem. Fusce at placerat nunc\, auctor ornare nulla. Nulla rutrum tristique laoreet. Class aptent taciti sociosqu ad litora torquent per conubia nostra\, per inceptos himenaeos. Donec ut leo pharetra\, aliquam ante ac\, scelerisque dui. Vestibulum pretium elit et augue congue\, id ultricies sem venenatis. Donec vitae arcu non odio semper mattis.
URL:https://klagenfurt-nord.at/event/ski-anfaenger-kurs/
LOCATION:Turracher Höhe\, Turracher Höhe\, Turracherhöhe\, 9565\, Österreich
CATEGORIES:Anfänger
ATTACH;FMTTYPE=image/jpeg:https://klagenfurt-nord.at/wp-content/uploads/2017/03/shutterstock_503837596-scaled.jpg
ORGANIZER;CN="Winter Sport Union Klagenfurt Nord":MAILTO:wsu@klagenfurt-nord.at
END:VEVENT
BEGIN:VEVENT
DTSTART;TZID=Europe/Vienna:20220312T190000
DTEND;TZID=Europe/Vienna:20220312T200000
DTSTAMP:20260425T055612
CREATED:20220309T112914Z
LAST-MODIFIED:20220309T120910Z
UID:1567-1647111600-1647115200@klagenfurt-nord.at
SUMMARY:Trampolinhalle
DESCRIPTION:Um uns mal so richtig auszupowern gehen wir am Samstag\, den 12. März um 19:00 Uhr in den Jump Dome Funpark in Klagenfurt. Im Anschluss treffen wir uns natürlich zum Après Ski. \nEintritt € 10\,- \n…falls du noch keine Sprungsocken hast\, bekommst du dein eigenes Paar bei der Kassa um € 3\,-.
URL:https://klagenfurt-nord.at/event/trampolinhalle/
LOCATION:Jump Dome Klagenfurt\, Magazingasse 14\, Klagenfurt\, Kärnten\, 9020\, Österreich
CATEGORIES:Après-Ski,Gesellig,Party,Trampolin
ATTACH;FMTTYPE=image/jpeg:https://klagenfurt-nord.at/wp-content/uploads/2022/03/shutterstock_1026815566-scaled.jpg
ORGANIZER;CN="Winter Sport Union Klagenfurt Nord":MAILTO:wsu@klagenfurt-nord.at
END:VEVENT
END:VCALENDAR