BEGIN:VCALENDAR
VERSION:2.0
PRODID:-//Winter Sport Union Klagenfurt Nord - ECPv6.2.5//NONSGML v1.0//EN
CALSCALE:GREGORIAN
METHOD:PUBLISH
X-ORIGINAL-URL:https://klagenfurt-nord.at
X-WR-CALDESC:Veranstaltungen für Winter Sport Union Klagenfurt Nord
REFRESH-INTERVAL;VALUE=DURATION:PT1H
X-Robots-Tag:noindex
X-PUBLISHED-TTL:PT1H
BEGIN:VTIMEZONE
TZID:Europe/Vienna
BEGIN:DAYLIGHT
TZOFFSETFROM:+0100
TZOFFSETTO:+0200
TZNAME:CEST
DTSTART:20220327T010000
END:DAYLIGHT
BEGIN:STANDARD
TZOFFSETFROM:+0200
TZOFFSETTO:+0100
TZNAME:CET
DTSTART:20221030T010000
END:STANDARD
END:VTIMEZONE
BEGIN:VEVENT
DTSTART;TZID=Europe/Vienna:20221203T083000
DTEND;TZID=Europe/Vienna:20221203T160000
DTSTAMP:20260424T145305
CREATED:20221002T203154Z
LAST-MODIFIED:20221002T203154Z
UID:1659-1670056200-1670083200@klagenfurt-nord.at
SUMMARY:Skiopening Gerlitzen
DESCRIPTION:Es geht wieder los. Gemeinsam machen wir wieder die Pisten unsicher. \nBei schlechtem Wetter starten wir am Sonntag.
URL:https://klagenfurt-nord.at/event/skiopening-gerlitzen/
LOCATION:Gerlitzen Alpe\, Kanzelplatz 2\, Annenheim\, Kärnten\, 9520\, Österreich
CATEGORIES:Anfänger,Après-Ski,Ski,Wintersport
ATTACH;FMTTYPE=image/jpeg:https://klagenfurt-nord.at/wp-content/uploads/2017/03/shutterstock_1310139967-scaled.jpg
ORGANIZER;CN="Winter Sport Union Klagenfurt Nord":MAILTO:wsu@klagenfurt-nord.at
END:VEVENT
BEGIN:VEVENT
DTSTART;TZID=Europe/Vienna:20221210T083000
DTEND;TZID=Europe/Vienna:20221210T160000
DTSTAMP:20260424T145305
CREATED:20221002T204520Z
LAST-MODIFIED:20221002T204520Z
UID:1663-1670661000-1670688000@klagenfurt-nord.at
SUMMARY:Skitag Turracher Höhe
DESCRIPTION:Die Turracher Höhe bietet Skispaß für jung und alt. Hier ist für jeden etwas dabei. Ein absolutes MUSS für jeden Wintersportler. \nBei schlechtem Wetter starten wir am Sonntag.
URL:https://klagenfurt-nord.at/event/skitag-turracher-hoehe/
LOCATION:Turracher Höhe\, Turracher Höhe\, Turracherhöhe\, 9565\, Österreich
CATEGORIES:Anfänger,Après-Ski,Ski,Wintersport
ATTACH;FMTTYPE=image/jpeg:https://klagenfurt-nord.at/wp-content/uploads/2017/03/shutterstock_503837596-scaled.jpg
ORGANIZER;CN="Winter Sport Union Klagenfurt Nord":MAILTO:wsu@klagenfurt-nord.at
END:VEVENT
BEGIN:VEVENT
DTSTART;TZID=Europe/Vienna:20221217T110000
DTEND;TZID=Europe/Vienna:20221217T170000
DTSTAMP:20260424T145305
CREATED:20221216T171304Z
LAST-MODIFIED:20221216T171331Z
UID:1722-1671274800-1671296400@klagenfurt-nord.at
SUMMARY:Rodelrennen
DESCRIPTION:Am Samstag findet unser großes Rodelrennen am Dobratsch statt. Jeder ist willkommen teilzunehmen.\nWenn möglich bring bitte deinen eigenen Schlitten\, Bob\, Rutscherl oder anderes Rutschfähiges Fortbewegungsmittel mit. \nWir freuen uns auf dich!
URL:https://klagenfurt-nord.at/event/rodelrennen-2/
LOCATION:Dobratsch\, Villacher Alpenstraße 11\, Villach\, Kärnten\, 9500\, Österreich
ATTACH;FMTTYPE=image/jpeg:https://klagenfurt-nord.at/wp-content/uploads/2022/02/shutterstock_1198406104-scaled.jpg
ORGANIZER;CN="Winter Sport Union Klagenfurt Nord":MAILTO:wsu@klagenfurt-nord.at
END:VEVENT
BEGIN:VEVENT
DTSTART;TZID=Europe/Vienna:20221228T090000
DTEND;TZID=Europe/Vienna:20221228T160000
DTSTAMP:20260424T145305
CREATED:20221226T135518Z
LAST-MODIFIED:20221226T135518Z
UID:1792-1672218000-1672243200@klagenfurt-nord.at
SUMMARY:Skitag Dreiländereck
DESCRIPTION:Am Mittwoch findet unser alljährlicher Skitag am Dreiländereck statt. Erlebt das ultimative Wintersportvergnügen und genießt die traumhafte Landschaft im Herzen der Alpen. Das Skigebiet bietet vor allem auch für geübtere Skifahrer perfekte Pisten.\nNach einem aufregenden Tag auf der Piste können wir uns in einer gemütlichen Hütte aufwärmen und ein paar regionalen Köstlichkeiten genießen. \nMach dich bereit für ein unvergessliches Skierlebnis am Dreiländereck! Wir freuen uns darauf\, dich auf der Pisten zu sehen.
URL:https://klagenfurt-nord.at/event/skitag-dreilaendereck-2/
LOCATION:Dreiländereck\, Seltschach 125\, Arnoldstein\, Kärnten\, 9601\, Österreich
CATEGORIES:Ski,Wintersport
ATTACH;FMTTYPE=image/jpeg:https://klagenfurt-nord.at/wp-content/uploads/2022/12/Banner-Dreiländereck.jpg
ORGANIZER;CN="Winter Sport Union Klagenfurt Nord":MAILTO:wsu@klagenfurt-nord.at
END:VEVENT
BEGIN:VEVENT
DTSTART;TZID=Europe/Vienna:20221229T080000
DTEND;TZID=Europe/Vienna:20221229T170000
DTSTAMP:20260424T145305
CREATED:20221002T210422Z
LAST-MODIFIED:20221002T210422Z
UID:1665-1672300800-1672333200@klagenfurt-nord.at
SUMMARY:Langlauf Schnupperkurs
DESCRIPTION:Du wolltest schon immer einmal Langlaufen probieren? Dann haben wir genau das richtige für dich!\nUnser Langlauf Spezialist zeigt dir die richtige Technik und die Ausrüstung kann vor Ort ausgeborgt werden. Wenn du deine eigene hast noch besser.
URL:https://klagenfurt-nord.at/event/langlauf-schnupperkurs/
LOCATION:Kärnten
CATEGORIES:Anfänger,Langlaufen,Wintersport
ATTACH;FMTTYPE=image/jpeg:https://klagenfurt-nord.at/wp-content/uploads/2017/03/shutterstock_572234827-scaled.jpg
ORGANIZER;CN="Winter Sport Union Klagenfurt Nord":MAILTO:wsu@klagenfurt-nord.at
END:VEVENT
BEGIN:VEVENT
DTSTART;TZID=Europe/Vienna:20221231T200000
DTEND;TZID=Europe/Vienna:20221231T235900
DTSTAMP:20260424T145305
CREATED:20221220T215844Z
LAST-MODIFIED:20221226T153552Z
UID:1784-1672516800-1672531140@klagenfurt-nord.at
SUMMARY:WSU Silvesterparty
DESCRIPTION:Feiere das neue Jahr auf die beste Art und Weise – mit einer unvergesslichen WSU Silvesterparty auf der Burgruine Liebenfells! Lass das alte Jahr in stilvollem Ambiente\, inmitten der Mittelalterlichen Gemäuer ausklingen. Gemeinsam begrüßen wir dann das neue mit einem gewaltigem Feuerwerk. \nGenieße erfrischende Drinks\, während du dich zu den Klängen von DJ-Beats auf der Tanzfläche vergnügst. Lasse dich von spektakulären Shows und Unterhaltung begeistern und lass dich in die Partystimmung mitreißen. \nFür das ermöglichen dieses Abends wird um eine Spende in der Höhe von 10€ für den Burgverein gebeten. \nVerbringe einen unvergesslichen Silvesterabend inmitten von Freunden und Familie und starte das neue Jahr mit viel positiver Energie und Vorfreude.
URL:https://klagenfurt-nord.at/event/wsu-silvesterparty/
LOCATION:Burgruine Liebenfells\, Hoch-Liebenfels 24\, Liebenfels\, Kärnten\, 9556\, Österreich
CATEGORIES:Gesellig,Party
ATTACH;FMTTYPE=image/jpeg:https://klagenfurt-nord.at/wp-content/uploads/2022/12/Banner-Silvester.jpg
ORGANIZER;CN="Winter Sport Union Klagenfurt Nord":MAILTO:wsu@klagenfurt-nord.at
END:VEVENT
END:VCALENDAR