BEGIN:VCALENDAR
VERSION:2.0
PRODID:-//Winter Sport Union Klagenfurt Nord - ECPv6.2.5//NONSGML v1.0//EN
CALSCALE:GREGORIAN
METHOD:PUBLISH
X-ORIGINAL-URL:https://klagenfurt-nord.at
X-WR-CALDESC:Veranstaltungen für Winter Sport Union Klagenfurt Nord
REFRESH-INTERVAL;VALUE=DURATION:PT1H
X-Robots-Tag:noindex
X-PUBLISHED-TTL:PT1H
BEGIN:VTIMEZONE
TZID:Europe/Vienna
BEGIN:DAYLIGHT
TZOFFSETFROM:+0100
TZOFFSETTO:+0200
TZNAME:CEST
DTSTART:20230326T010000
END:DAYLIGHT
BEGIN:STANDARD
TZOFFSETFROM:+0200
TZOFFSETTO:+0100
TZNAME:CET
DTSTART:20231029T010000
END:STANDARD
END:VTIMEZONE
BEGIN:VEVENT
DTSTART;TZID=Europe/Vienna:20230204T090000
DTEND;TZID=Europe/Vienna:20230204T170000
DTSTAMP:20260424T114811
CREATED:20221220T210905Z
LAST-MODIFIED:20221220T210923Z
UID:1770-1675501200-1675530000@klagenfurt-nord.at
SUMMARY:Skitag Dreiländereck
DESCRIPTION:Gemeinsamer gemütlicher WSU Skitag auf dem Dreiländereck. Bei Schlechtwetter starten wir am Sonntag.
URL:https://klagenfurt-nord.at/event/skitag-dreilaendereck/
LOCATION:Dreiländereck\, Seltschach 125\, Arnoldstein\, Kärnten\, 9601\, Österreich
CATEGORIES:Ski,Training,Wintersport
ATTACH;FMTTYPE=image/jpeg:https://klagenfurt-nord.at/wp-content/uploads/2022/02/Dreilaendereck.jpeg
ORGANIZER;CN="Winter Sport Union Klagenfurt Nord":MAILTO:wsu@klagenfurt-nord.at
END:VEVENT
BEGIN:VEVENT
DTSTART;TZID=Europe/Vienna:20230211T090000
DTEND;TZID=Europe/Vienna:20230211T170000
DTSTAMP:20260424T114811
CREATED:20221217T144737Z
LAST-MODIFIED:20230209T210636Z
UID:1766-1676106000-1676134800@klagenfurt-nord.at
SUMMARY:Skitag Petzen
DESCRIPTION:Am Samstag den 11.02.2023 findet unser Skitag auf der Petzten statt. Erlebt das ultimative Wintersportvergnügen und genießt die traumhafte Landschaft der Karawanken. Das Skigebiet bietet sowohl für Anfänger als auch für geübtere Skifahrer perfekte Pisten. Nach einem aufregenden Tag auf der Piste können wir uns in einer gemütlichen Hütte aufwärmen und so manche regionalen Köstlichkeiten genießen. Mach dich bereit für ein unvergessliches Skierlebnis auf der Petzen! \nBei Schlechtwetter starten wir am Sonntag.
URL:https://klagenfurt-nord.at/event/skitag-petzen/
LOCATION:Petzen Bergbahnen\, Unterort 52\,\, St. Michael o. B.\, Kärnten\, 9143\, Österreich
CATEGORIES:Ski,Wintersport
ATTACH;FMTTYPE=image/jpeg:https://klagenfurt-nord.at/wp-content/uploads/2017/03/shutterstock_503837596-scaled.jpg
ORGANIZER;CN="Winter Sport Union Klagenfurt Nord":MAILTO:wsu@klagenfurt-nord.at
END:VEVENT
BEGIN:VEVENT
DTSTART;TZID=Europe/Vienna:20230215T100000
DTEND;TZID=Europe/Vienna:20230215T120000
DTSTAMP:20260424T114811
CREATED:20221217T130021Z
LAST-MODIFIED:20221217T130021Z
UID:1763-1676455200-1676462400@klagenfurt-nord.at
SUMMARY:Eislaufen Hörzendorfer See
DESCRIPTION:Wir gehen Eislaufen am Hörzendorfer See und danach Eisessen.
URL:https://klagenfurt-nord.at/event/eislaufen-hoerzendorfer-see/
LOCATION:Hörzendorfer See\, Hörzendorfer See\, St. Veit an der Glan\, Kärnten\, 9300\, Österreich
CATEGORIES:Anfänger,Eislaufen,Wintersport
ATTACH;FMTTYPE=image/jpeg:https://klagenfurt-nord.at/wp-content/uploads/2017/03/shutterstock_1193256073-scaled.jpg
ORGANIZER;CN="Winter Sport Union Klagenfurt Nord":MAILTO:wsu@klagenfurt-nord.at
END:VEVENT
BEGIN:VEVENT
DTSTART;TZID=Europe/Vienna:20230218T090000
DTEND;TZID=Europe/Vienna:20230218T235900
DTSTAMP:20260424T114811
CREATED:20221217T125602Z
LAST-MODIFIED:20221220T220420Z
UID:1758-1676710800-1676764740@klagenfurt-nord.at
SUMMARY:Faschingsskitag
DESCRIPTION:Nach dem Erfolg im letzten Jahr gibt es auch heuer wieder den WSU Faschingsskitag. Wir treffen uns VERKLEIDET auf der Gerlitzen Alpe und machen gemeinsam die Piste unsicher. Nach einem ausgiebigen Skitag findet eine Faschingsparty in einer unserer Après-Ski Locations statt.   !! KOSTÜMPFLICHT !!   Wir freuen uns schon auf dich! LEI LEI \n  \n \n \n  \n  \n  \n  \n  \n  \nWichtig der Eintritt zur Party ist auf Vereinsmitglieder beschränkt. \n 
URL:https://klagenfurt-nord.at/event/faschingsskitag-2/
LOCATION:Gerlitzen Alpe\, Kanzelplatz 2\, Annenheim\, Kärnten\, 9520\, Österreich
CATEGORIES:Après-Ski,Gesellig,Party,Ski,Wintersport
ATTACH;FMTTYPE=image/jpeg:https://klagenfurt-nord.at/wp-content/uploads/2022/12/DB6A4590-scaled.jpg
ORGANIZER;CN="Winter Sport Union Klagenfurt Nord":MAILTO:wsu@klagenfurt-nord.at
END:VEVENT
BEGIN:VEVENT
DTSTART;TZID=Europe/Vienna:20230225T090000
DTEND;TZID=Europe/Vienna:20230225T160000
DTSTAMP:20260424T114811
CREATED:20221217T122039Z
LAST-MODIFIED:20230219T160831Z
UID:1728-1677315600-1677340800@klagenfurt-nord.at
SUMMARY:Skitag Katschberg
DESCRIPTION:Am 25. Februar heißt es für uns wieder „Mehr Ski am Katschi“. Dort findet ab 9 Uhr unser gemeinsamer Skitag auf dem Katschberg statt.\nAuf 70 Kilometer feinst präparierten Abfahrtskilometern findet jeder seine Lieblingspiste beim Skifahren und Snowboarden. Für Fahrgemeinschaften meldet euch gerne bei uns. \nBei Schlechtwetter starten wir wie immer erst am Sonntag.
URL:https://klagenfurt-nord.at/event/skitag-katschberg/
LOCATION:Katschberg\, Katschberghöhe 17\, Katschberg\, Kärnten\, 9863\, Österreich
CATEGORIES:Ski,Wintersport
ATTACH;FMTTYPE=image/jpeg:https://klagenfurt-nord.at/wp-content/uploads/2022/12/Banner-Katschberg.jpg
ORGANIZER;CN="Winter Sport Union Klagenfurt Nord":MAILTO:wsu@klagenfurt-nord.at
END:VEVENT
END:VCALENDAR