BEGIN:VCALENDAR
VERSION:2.0
PRODID:-//Winter Sport Union Klagenfurt Nord - ECPv6.2.5//NONSGML v1.0//EN
CALSCALE:GREGORIAN
METHOD:PUBLISH
X-ORIGINAL-URL:https://klagenfurt-nord.at
X-WR-CALDESC:Veranstaltungen für Winter Sport Union Klagenfurt Nord
REFRESH-INTERVAL;VALUE=DURATION:PT1H
X-Robots-Tag:noindex
X-PUBLISHED-TTL:PT1H
BEGIN:VTIMEZONE
TZID:Europe/Vienna
BEGIN:DAYLIGHT
TZOFFSETFROM:+0100
TZOFFSETTO:+0200
TZNAME:CEST
DTSTART:20240331T010000
END:DAYLIGHT
BEGIN:STANDARD
TZOFFSETFROM:+0200
TZOFFSETTO:+0100
TZNAME:CET
DTSTART:20241027T010000
END:STANDARD
END:VTIMEZONE
BEGIN:VEVENT
DTSTART;TZID=Europe/Vienna:20241130T080000
DTEND;TZID=Europe/Vienna:20241201T170000
DTSTAMP:20260423T011945
CREATED:20241110T213457Z
LAST-MODIFIED:20241110T213457Z
UID:1935-1732953600-1733072400@klagenfurt-nord.at
SUMMARY:Wintersportbörse 2024
DESCRIPTION:Die AK Wintersportbörse ist der perfekte Weg um am Saisonbeginn günstig an die Ausrüstung für die bevorstehende Winterliche Action zu kommen. In der Messehalle 1 in Klagenfurt habt ihr 2 Tage lang Zeit euch für den kommenden Winter einzudecken. Ein absoluter Pflichtermin wenn dein Eqipment noch nicht vollständig ist.
URL:https://klagenfurt-nord.at/event/wintersportboerse-2024/
LOCATION:Kärnten
CATEGORIES:Anfänger,Eislaufen,Langlaufen,Rodeln,Ski,Wintersport
ATTACH;FMTTYPE=image/jpeg:https://klagenfurt-nord.at/wp-content/uploads/2023/11/shutterstock_1069133498-scaled.jpg
END:VEVENT
BEGIN:VEVENT
DTSTART;TZID=Europe/Vienna:20241207T080000
DTEND;TZID=Europe/Vienna:20241207T170000
DTSTAMP:20260423T011945
CREATED:20241110T214134Z
LAST-MODIFIED:20241110T214134Z
UID:1937-1733558400-1733590800@klagenfurt-nord.at
SUMMARY:Skitag Turracher Höhe
DESCRIPTION:Die Turrach\, eines unserer absoluten Lieblingsskigebiete\, wo die Pistenverhältnisse fast immer top sind\, wird auch heuer wieder Schauplatz des WSU Ski Openings! \nBegleite uns am 7. Dezember und lass uns gemeinsam die Stöcke schwingen! \nFür Fahrgemeinschaften meldet euch gerne bei uns. \nBei Schlechtwetter starten wir wie immer erst am Samstag oder Sonntag.
URL:https://klagenfurt-nord.at/event/skitag-turracher-hoehe-2/
LOCATION:Turracher Höhe\, Turracher Höhe\, Turracherhöhe\, 9565\, Österreich
CATEGORIES:Ski,Wintersport
ATTACH;FMTTYPE=image/jpeg:https://klagenfurt-nord.at/wp-content/uploads/2022/12/photo_2022-12-26-13.50.56.jpeg
ORGANIZER;CN="Winter Sport Union Klagenfurt Nord":MAILTO:wsu@klagenfurt-nord.at
END:VEVENT
BEGIN:VEVENT
DTSTART;TZID=Europe/Vienna:20241214T090000
DTEND;TZID=Europe/Vienna:20241214T210000
DTSTAMP:20260423T011945
CREATED:20241110T221125Z
LAST-MODIFIED:20241110T234202Z
UID:1939-1734166800-1734210000@klagenfurt-nord.at
SUMMARY:Bad Kleinkirchheim
DESCRIPTION:GUT TERM! \nSki und Thermen Tag in Bad Kleinkirchheim\, oder doch mit Badekleidung auf die Piste? \nBei Schlechtwetter starten wir wie immer am Sonntag\, wir freuen uns auf euch! \n 
URL:https://klagenfurt-nord.at/event/bad-kleinkirchheim/
LOCATION:Bad Kleinkirchheim\, Schneerosenweg 1\, Bad Kleinkirchheim\, Kärnten\, 9546\, Österreich
CATEGORIES:Après-Ski,Gesellig,Ski
ATTACH;FMTTYPE=image/jpeg:https://klagenfurt-nord.at/wp-content/uploads/2024/11/IMG_3799-1-scaled.jpeg
ORGANIZER;CN="Winter Sport Union Klagenfurt Nord":MAILTO:wsu@klagenfurt-nord.at
END:VEVENT
BEGIN:VEVENT
DTSTART;TZID=Europe/Vienna:20241214T180000
DTEND;TZID=Europe/Vienna:20241214T230000
DTSTAMP:20260423T011945
CREATED:20241213T221438Z
LAST-MODIFIED:20241213T221438Z
UID:1961-1734199200-1734217200@klagenfurt-nord.at
SUMMARY:WSU Christkindlmarkt
DESCRIPTION:wir laden euch herzlich zu unserem WSU Christkindlmarkt ein!\nLasst uns gemeinsam eine stimmungsvolle Adventszeit genießen – mit köstlichen Leckereien\, warmem Punsch und einem Hauch von Weihnachtszauber. \nWann?\nJeden Samstag im Advent\, ab 18:00 Uhr \nWo?\nTheatergasse 5a\, 9020 Klagenfurt \nDer Erlös der Veranstaltung unterstützt unseren Verein und unsere zukünftigen Projekte. \nKommt vorbei\, bringt eure Familie und Freunde mit und lasst uns die Vorweihnachtszeit gemeinsam feiern! Wir freuen uns auf euch.
URL:https://klagenfurt-nord.at/event/wsu-christkindlmarkt/
LOCATION:Theatergasse 5\, Theatergasse 5\, Klagenfurt am Wörthersee\, Kärnten\, 9020\, Österreich
ATTACH;FMTTYPE=image/jpeg:https://klagenfurt-nord.at/wp-content/uploads/2024/12/photo_2024-12-13-23.08.48.jpeg
ORGANIZER;CN="Winter Sport Union Klagenfurt Nord":MAILTO:wsu@klagenfurt-nord.at
END:VEVENT
BEGIN:VEVENT
DTSTART;TZID=Europe/Vienna:20241221T080000
DTEND;TZID=Europe/Vienna:20241221T170000
DTSTAMP:20260423T011945
CREATED:20241110T222108Z
LAST-MODIFIED:20241111T091445Z
UID:1943-1734768000-1734800400@klagenfurt-nord.at
SUMMARY:Ski Schnupperkurs
DESCRIPTION:Du träumst davon mit den Skiern den Berg hinunter zu fahren und weißt aber nicht wie?? Dann komm zum Anfängerkurs der Winter Sport Union Klagenfurt Nord. Wir zeigen dir die ersten Schritte. \nWenn es dann gut klappt geht es am nächsten Tag gleich mit dem Technik Training weiter.
URL:https://klagenfurt-nord.at/event/ski-schnupperkurs/
LOCATION:Koralpe\, Koralpe\, Wolfsberg\, Kärnten\, 9431\, Österreich
CATEGORIES:Anfänger,Kurs,Ski,Wintersport
ATTACH;FMTTYPE=image/jpeg:https://klagenfurt-nord.at/wp-content/uploads/2024/11/5N7A9636-scaled.jpeg
END:VEVENT
BEGIN:VEVENT
DTSTART;TZID=Europe/Vienna:20241222T090000
DTEND;TZID=Europe/Vienna:20241222T170000
DTSTAMP:20260423T011945
CREATED:20241110T223253Z
LAST-MODIFIED:20241110T234418Z
UID:1950-1734858000-1734886800@klagenfurt-nord.at
SUMMARY:Ski Technik Training
DESCRIPTION:Du möchtest deine Technik verbessern? Komm am 22. Dezember mit uns auf die Koraple und schwing das Tanzbein .. oder lerne den perfekten Schwung – wir helfen dir gerne!
URL:https://klagenfurt-nord.at/event/ski-technik-training/
LOCATION:Koralpe\, Koralpe\, Wolfsberg\, Kärnten\, 9431\, Österreich
ATTACH;FMTTYPE=image/jpeg:https://klagenfurt-nord.at/wp-content/uploads/2024/11/5N7A9734-scaled-e1731282234594.jpg
END:VEVENT
BEGIN:VEVENT
DTSTART;TZID=Europe/Vienna:20241227T090000
DTEND;TZID=Europe/Vienna:20241227T170000
DTSTAMP:20260423T011945
CREATED:20241110T221032Z
LAST-MODIFIED:20241110T221032Z
UID:1940-1735290000-1735318800@klagenfurt-nord.at
SUMMARY:Rodelrennen Dobratsch
DESCRIPTION:Auf die Rodel\, fertig\, looos! Nach einer netten kleinen Wanderung auf den Dobratsch geht es blitzschnell wieder runter. \nFür Fahrgemeinschaften meldet euch gerne bei uns.
URL:https://klagenfurt-nord.at/event/rodelrennen-dobratsch/
LOCATION:Dobratsch\, Villacher Alpenstraße 11\, Villach\, Kärnten\, 9500\, Österreich
CATEGORIES:Rennen,Rodeln,Wintersport
ATTACH;FMTTYPE=image/jpeg:https://klagenfurt-nord.at/wp-content/uploads/2024/11/IMG_3563.jpg
END:VEVENT
BEGIN:VEVENT
DTSTART;TZID=Europe/Vienna:20241228T090000
DTEND;TZID=Europe/Vienna:20241228T170000
DTSTAMP:20260423T011945
CREATED:20241214T111249Z
LAST-MODIFIED:20241214T111249Z
UID:1968-1735376400-1735405200@klagenfurt-nord.at
SUMMARY:Skitag Sella Nevea
DESCRIPTION:Ein atemberaubendes Bergpanorama gepaart mit italienischem Flair. das findet man nur in Sella Nevea; ein Skitag den du auf keinem Fall verpassen solltest.
URL:https://klagenfurt-nord.at/event/skitag-sella-nevea/
LOCATION:Kärnten
CATEGORIES:Ski,Wintersport
ATTACH;FMTTYPE=image/jpeg:https://klagenfurt-nord.at/wp-content/uploads/2024/12/Sella-Nevea.jpeg
ORGANIZER;CN="Winter Sport Union Klagenfurt Nord":MAILTO:wsu@klagenfurt-nord.at
END:VEVENT
END:VCALENDAR