BEGIN:VCALENDAR
VERSION:2.0
PRODID:-//Winter Sport Union Klagenfurt Nord - ECPv6.2.5//NONSGML v1.0//EN
CALSCALE:GREGORIAN
METHOD:PUBLISH
X-WR-CALNAME:Winter Sport Union Klagenfurt Nord
X-ORIGINAL-URL:https://klagenfurt-nord.at
X-WR-CALDESC:Veranstaltungen für Winter Sport Union Klagenfurt Nord
REFRESH-INTERVAL;VALUE=DURATION:PT1H
X-Robots-Tag:noindex
X-PUBLISHED-TTL:PT1H
BEGIN:VTIMEZONE
TZID:Europe/Vienna
BEGIN:DAYLIGHT
TZOFFSETFROM:+0100
TZOFFSETTO:+0200
TZNAME:CEST
DTSTART:20250330T010000
END:DAYLIGHT
BEGIN:STANDARD
TZOFFSETFROM:+0200
TZOFFSETTO:+0100
TZNAME:CET
DTSTART:20251026T010000
END:STANDARD
END:VTIMEZONE
BEGIN:VEVENT
DTSTART;TZID=Europe/Vienna:20250201T080000
DTEND;TZID=Europe/Vienna:20250201T170000
DTSTAMP:20260422T195056
CREATED:20241214T120609Z
LAST-MODIFIED:20250113T195048Z
UID:1982-1738396800-1738429200@klagenfurt-nord.at
SUMMARY:Skitag Nassfeld
DESCRIPTION:Mit über 110 Pistenkilometern und 30 modernen Liftanlagen bietet das Nassfeld alles\, was das Skifahrerherz höherschlagen lässt. Du kannst dich auf abwechslungsreiche Abfahrten in allen Schwierigkeitsgraden freuen und immer wieder neue Herausforderungen suchen. \nFalls du eine Mitfahrgelegenheit brauchst\, CO2 sparen möchtest oder einfach nur Spaß haben und nicht alleine fahren willst\, kannst du dich gerne in unserem Telegram Channel oder unserer Whatsapp Gruppe unter dem jeweiligen Post melden! \nBei zu schlechtem Wetter fahren wir am Sonntag
URL:https://klagenfurt-nord.at/event/skitag-nassfeld-3/
LOCATION:Kärnten
CATEGORIES:Après-Ski,Ski,Wintersport
ATTACH;FMTTYPE=image/jpeg:https://klagenfurt-nord.at/wp-content/uploads/2024/12/Nassfeld.jpg
END:VEVENT
BEGIN:VEVENT
DTSTART;TZID=Europe/Vienna:20250222T080000
DTEND;TZID=Europe/Vienna:20250222T170000
DTSTAMP:20260422T195056
CREATED:20250113T222540Z
LAST-MODIFIED:20250113T230529Z
UID:1996-1740211200-1740243600@klagenfurt-nord.at
SUMMARY:Vereinsrennen
DESCRIPTION:Vorläufiger Termin für das Vereinsrennen 2025. \nFür die fairsten Bedingungen: nicht die schnellste Zeit gewinnt\, sondern die Person\, welche die geringste Zeitdifferenz zwischen zwei Läufen hat!
URL:https://klagenfurt-nord.at/event/vereinsrennen-2/
LOCATION:Kärnten
CATEGORIES:Rennen,Ski,Wintersport
ATTACH;FMTTYPE=image/jpeg:https://klagenfurt-nord.at/wp-content/uploads/2025/01/photo_2025-01-14-00.04.08.jpeg
ORGANIZER;CN="Winter Sport Union Klagenfurt Nord":MAILTO:wsu@klagenfurt-nord.at
END:VEVENT
END:VCALENDAR