BEGIN:VCALENDAR
VERSION:2.0
PRODID:-//Winter Sport Union Klagenfurt Nord - ECPv6.2.5//NONSGML v1.0//EN
CALSCALE:GREGORIAN
METHOD:PUBLISH
X-WR-CALNAME:Winter Sport Union Klagenfurt Nord
X-ORIGINAL-URL:https://klagenfurt-nord.at
X-WR-CALDESC:Veranstaltungen für Winter Sport Union Klagenfurt Nord
REFRESH-INTERVAL;VALUE=DURATION:PT1H
X-Robots-Tag:noindex
X-PUBLISHED-TTL:PT1H
BEGIN:VTIMEZONE
TZID:Europe/Vienna
BEGIN:DAYLIGHT
TZOFFSETFROM:+0100
TZOFFSETTO:+0200
TZNAME:CEST
DTSTART:20230326T010000
END:DAYLIGHT
BEGIN:STANDARD
TZOFFSETFROM:+0200
TZOFFSETTO:+0100
TZNAME:CET
DTSTART:20231029T010000
END:STANDARD
END:VTIMEZONE
BEGIN:VEVENT
DTSTART;TZID=Europe/Vienna:20231223T110000
DTEND;TZID=Europe/Vienna:20231223T170000
DTSTAMP:20260424T004724
CREATED:20231204T204213Z
LAST-MODIFIED:20231204T205255Z
UID:1872-1703329200-1703350800@klagenfurt-nord.at
SUMMARY:Rodel Rennen
DESCRIPTION:Auf die Rodel\, fertig\, looos! Nach einer netten kleinen Wanderung auf den Dobratsch geht es blitzschnell wieder runter. \nFür Fahrgemeinschaften meldet euch gerne bei uns. \n 
URL:https://klagenfurt-nord.at/event/rodel-rennen/
LOCATION:Dobratsch\, Villacher Alpenstraße 11\, Villach\, Kärnten\, 9500\, Österreich
CATEGORIES:Rennen,Rodeln,Wintersport
ATTACH;FMTTYPE=image/jpeg:https://klagenfurt-nord.at/wp-content/uploads/2023/12/Dez23_Kirchheim.jpg
ORGANIZER;CN="Winter Sport Union Klagenfurt Nord":MAILTO:wsu@klagenfurt-nord.at
END:VEVENT
END:VCALENDAR